BEGIN:VCALENDAR
VERSION:2.0
PRODID:-//Tukios.com/
BEGIN:VEVENT
UID:c5df0f10-de0b-4db4-b725-5b38b2160bc8@www.gallowayandsons.com
DTSTAMP:20260424T001823Z
DTSTART:20260507T150000Z
DTEND:20260507T160000Z
SUMMARY:Mass
DESCRIPTION:
URL:https://www.gallowayandsons.com/obituaries/madeline-madden
LOCATION: 609 E Gramman St  Beeville TX 78102
GEO:28.4076044;-97.7437498
END:VEVENT
END:VCALENDAR