BEGIN:VCALENDAR
VERSION:2.0
PRODID:-//Tukios.com/
BEGIN:VEVENT
UID:c070be6d-847f-49c1-8750-5007f656a66f@www.gallowayandsons.com
DTSTAMP:20260424T001925Z
DTSTART:20260506T220000Z
DTEND:20260506T230000Z
SUMMARY:Visitation
DESCRIPTION:
URL:https://www.gallowayandsons.com/obituaries/madeline-madden
LOCATION: 409 N Tyler St  Beeville TX 78102
GEO:28.4074059;-97.7452059
END:VEVENT
END:VCALENDAR